BEGIN:VCALENDAR
VERSION:2.0
X-WR-CALNAME: Mark Ferrari
PRODID:GIGPRESS 2.0 WORDPRESS PLUGIN
CALSCALE:GREGORIAN
X-WR-TIMEZONE:Etc/GMT
METHOD:PUBLISH
BEGIN:VTIMEZONE
TZID:GMT
BEGIN:STANDARD
DTSTART:20071028T010000
TZOFFSETTO:+0000
TZOFFSETFROM:+0000
END:STANDARD
END:VTIMEZONE
BEGIN:VEVENT
SUMMARY:Mark Ferrari at NFL Draft - Clemente Bridge
DESCRIPTION:Notes: Acoustic show! 9am-10am All Ages/Licensed
LOCATION:NFL Draft - Clemente Bridge\, Pittsburgh\, US
UID:20260425T090000Z-905-markferrarimusic@gmail.com
URL:http://markferrarimusic.com/events/
DTSTART;VALUE=DATE-TIME;TZID=GMT:20260425T090000Z
DTEND;VALUE=DATE-TIME;TZID=GMT:20260425T090000Z
DTSTAMP:20260424T021538Z
END:VEVENT
BEGIN:VEVENT
SUMMARY:Mark Ferrari at Private Party
DESCRIPTION:Notes: 4-7pm acoustic All Ages/Licensed
LOCATION:Private Party\, PIttsburgh\, US
UID:20260425T160000Z-903-markferrarimusic@gmail.com
URL:http://markferrarimusic.com/events/
DTSTART;VALUE=DATE-TIME;TZID=GMT:20260425T160000Z
DTEND;VALUE=DATE-TIME;TZID=GMT:20260425T160000Z
DTSTAMP:20260424T021538Z
END:VEVENT
BEGIN:VEVENT
SUMMARY:Mark Ferrari at Houlihan's (Galleria)
DESCRIPTION:Notes: 6:30-9:30pm All Ages/Licensed
LOCATION:Houlihan's (Galleria)\, 1500 Washington Rd.\, Pittsburgh\, US
UID:20260430T183000Z-895-markferrarimusic@gmail.com
URL:http://markferrarimusic.com/events/
DTSTART;VALUE=DATE-TIME;TZID=GMT:20260430T183000Z
DTEND;VALUE=DATE-TIME;TZID=GMT:20260430T183000Z
DTSTAMP:20260424T021538Z
END:VEVENT
BEGIN:VEVENT
SUMMARY:Mark Ferrari at Deer Creek Diner’s Summer Jam
DESCRIPTION:Notes: 11am-1pm All Ages/Licensed
LOCATION:Deer Creek Diner’s Summer Jam\, Deer Creek\, US
UID:20260516T110000Z-896-markferrarimusic@gmail.com
URL:http://markferrarimusic.com/events/
DTSTART;VALUE=DATE-TIME;TZID=GMT:20260516T110000Z
DTEND;VALUE=DATE-TIME;TZID=GMT:20260516T110000Z
DTSTAMP:20260424T021538Z
END:VEVENT
BEGIN:VEVENT
SUMMARY:Mark Ferrari at Vinoski Winery
DESCRIPTION:Notes: 1-4pm Acoustic show! All Ages/Licensed
LOCATION:Vinoski Winery\, 333 Castle Drive\, Rostraver\, US
UID:20260524T130000Z-902-markferrarimusic@gmail.com
URL:http://markferrarimusic.com/events/
DTSTART;VALUE=DATE-TIME;TZID=GMT:20260524T130000Z
DTEND;VALUE=DATE-TIME;TZID=GMT:20260524T130000Z
DTSTAMP:20260424T021538Z
END:VEVENT
BEGIN:VEVENT
SUMMARY:Mark Ferrari at J&D Cellars Winery (84)
DESCRIPTION:Notes: 6-8pm Acoustic show! All Ages/Licensed
LOCATION:J&D Cellars Winery (84)\, 290 Route Road\, Eighty Four\, US
UID:20260606T180000Z-906-markferrarimusic@gmail.com
URL:http://markferrarimusic.com/events/
DTSTART;VALUE=DATE-TIME;TZID=GMT:20260606T180000Z
DTEND;VALUE=DATE-TIME;TZID=GMT:20260606T180000Z
DTSTAMP:20260424T021538Z
END:VEVENT
BEGIN:VEVENT
SUMMARY:Mark Ferrari at South Hills Country Club
DESCRIPTION:Notes: Private party 6-9pm All Ages/Licensed
LOCATION:South Hills Country Club\, Pittsburgh\, US
UID:20260619T180000Z-901-markferrarimusic@gmail.com
URL:http://markferrarimusic.com/events/
DTSTART;VALUE=DATE-TIME;TZID=GMT:20260619T180000Z
DTEND;VALUE=DATE-TIME;TZID=GMT:20260619T180000Z
DTSTAMP:20260424T021538Z
END:VEVENT
BEGIN:VEVENT
SUMMARY:Mark Ferrari at PNC Park
DESCRIPTION:Notes: National Anthem! Pirates vs. Red Sox All Ages/Licensed
LOCATION:PNC Park\, Pittsburgh\, US
UID:20260815T180000Z-894-markferrarimusic@gmail.com
URL:http://markferrarimusic.com/events/
DTSTART;VALUE=DATE-TIME;TZID=GMT:20260815T180000Z
DTEND;VALUE=DATE-TIME;TZID=GMT:20260815T180000Z
DTSTAMP:20260424T021538Z
END:VEVENT
BEGIN:VEVENT
SUMMARY:Mark Ferrari at South Hills Country Club
DESCRIPTION:Notes: 6-10pm All Ages/Licensed
LOCATION:South Hills Country Club\, Pittsburgh\, US
UID:20260904T180000Z-899-markferrarimusic@gmail.com
URL:http://markferrarimusic.com/events/
DTSTART;VALUE=DATE-TIME;TZID=GMT:20260904T180000Z
DTEND;VALUE=DATE-TIME;TZID=GMT:20260904T180000Z
DTSTAMP:20260424T021538Z
END:VEVENT
BEGIN:VEVENT
SUMMARY:Mark Ferrari at Deer Creek Diner’s Summer Jam
DESCRIPTION:Notes: 11am-1pm All Ages/Licensed
LOCATION:Deer Creek Diner’s Summer Jam\, Deer Creek\, US
UID:20260920T110000Z-897-markferrarimusic@gmail.com
URL:http://markferrarimusic.com/events/
DTSTART;VALUE=DATE-TIME;TZID=GMT:20260920T110000Z
DTEND;VALUE=DATE-TIME;TZID=GMT:20260920T110000Z
DTSTAMP:20260424T021538Z
END:VEVENT
BEGIN:VEVENT
SUMMARY:Mark Ferrari at Deer Creek Diner’s Summer Jam
DESCRIPTION:Notes: 11am-1pm All Ages/Licensed
LOCATION:Deer Creek Diner’s Summer Jam\, Deer Creek\, US
UID:20261003T110000Z-898-markferrarimusic@gmail.com
URL:http://markferrarimusic.com/events/
DTSTART;VALUE=DATE-TIME;TZID=GMT:20261003T110000Z
DTEND;VALUE=DATE-TIME;TZID=GMT:20261003T110000Z
DTSTAMP:20260424T021538Z
END:VEVENT
BEGIN:VEVENT
SUMMARY:Mark Ferrari at AC Hotel Pittsburgh Southpointe
DESCRIPTION:Notes: 7-10pm Acoustic show! All Ages/Licensed
LOCATION:AC Hotel Pittsburgh Southpointe\, 1500 Main Street\, Canonsburg\, US
UID:20261111T190000Z-890-markferrarimusic@gmail.com
URL:http://markferrarimusic.com/events/
DTSTART;VALUE=DATE-TIME;TZID=GMT:20261111T190000Z
DTEND;VALUE=DATE-TIME;TZID=GMT:20261111T190000Z
DTSTAMP:20260424T021538Z
END:VEVENT
END:VCALENDAR